BEGIN:VCALENDAR
VERSION:2.0
PRODID:-//Origami Groep Eindhoven - ECPv6.15.20//NONSGML v1.0//EN
CALSCALE:GREGORIAN
METHOD:PUBLISH
X-WR-CALNAME:Origami Groep Eindhoven
X-ORIGINAL-URL:https://www.origamigroepeindhoven.nl/en
X-WR-CALDESC:Events for Origami Groep Eindhoven
REFRESH-INTERVAL;VALUE=DURATION:PT1H
X-Robots-Tag:noindex
X-PUBLISHED-TTL:PT1H
BEGIN:VTIMEZONE
TZID:Europe/Amsterdam
BEGIN:DAYLIGHT
TZOFFSETFROM:+0100
TZOFFSETTO:+0200
TZNAME:CEST
DTSTART:20250330T010000
END:DAYLIGHT
BEGIN:STANDARD
TZOFFSETFROM:+0200
TZOFFSETTO:+0100
TZNAME:CET
DTSTART:20251026T010000
END:STANDARD
BEGIN:DAYLIGHT
TZOFFSETFROM:+0100
TZOFFSETTO:+0200
TZNAME:CEST
DTSTART:20260329T010000
END:DAYLIGHT
BEGIN:STANDARD
TZOFFSETFROM:+0200
TZOFFSETTO:+0100
TZNAME:CET
DTSTART:20261025T010000
END:STANDARD
BEGIN:DAYLIGHT
TZOFFSETFROM:+0100
TZOFFSETTO:+0200
TZNAME:CEST
DTSTART:20270328T010000
END:DAYLIGHT
BEGIN:STANDARD
TZOFFSETFROM:+0200
TZOFFSETTO:+0100
TZNAME:CET
DTSTART:20271031T010000
END:STANDARD
END:VTIMEZONE
BEGIN:VEVENT
DTSTART;TZID=Europe/Amsterdam:20260425T100000
DTEND;TZID=Europe/Amsterdam:20260425T120000
DTSTAMP:20260420T085342
CREATED:20260403T135737Z
LAST-MODIFIED:20260403T135741Z
UID:2995-1777111200-1777118400@www.origamigroepeindhoven.nl
SUMMARY:Origami Café
DESCRIPTION:
URL:https://www.origamigroepeindhoven.nl/en/event/origami-cafe/
LOCATION:La Place\, Piazza 62\, Eindhoven\, 5611 AE\, Nederland
END:VEVENT
BEGIN:VEVENT
DTSTART;TZID=Europe/Amsterdam:20260516T100000
DTEND;TZID=Europe/Amsterdam:20260516T120000
DTSTAMP:20260420T085342
CREATED:20260403T135900Z
LAST-MODIFIED:20260403T135906Z
UID:2997-1778925600-1778932800@www.origamigroepeindhoven.nl
SUMMARY:Origami Café
DESCRIPTION:
URL:https://www.origamigroepeindhoven.nl/en/event/origami-cafe-2/
LOCATION:La Place\, Piazza 62\, Eindhoven\, 5611 AE\, Nederland
END:VEVENT
BEGIN:VEVENT
DTSTART;TZID=Europe/Amsterdam:20260620T100000
DTEND;TZID=Europe/Amsterdam:20260620T120000
DTSTAMP:20260420T085342
CREATED:20260403T140035Z
LAST-MODIFIED:20260403T140040Z
UID:2999-1781949600-1781956800@www.origamigroepeindhoven.nl
SUMMARY:Origami Café
DESCRIPTION:
URL:https://www.origamigroepeindhoven.nl/en/event/origami-cafe-4/
LOCATION:La Place\, Piazza 62\, Eindhoven\, 5611 AE\, Nederland
END:VEVENT
END:VCALENDAR